BEGIN:VCALENDAR
VERSION:2.0
PRODID:-//Nhelillustratrice - ECPv6.15.20//NONSGML v1.0//EN
CALSCALE:GREGORIAN
METHOD:PUBLISH
X-ORIGINAL-URL:https://nhelillustratrice.fr
X-WR-CALDESC:Évènements pour Nhelillustratrice
REFRESH-INTERVAL;VALUE=DURATION:PT1H
X-Robots-Tag:noindex
X-PUBLISHED-TTL:PT1H
BEGIN:VTIMEZONE
TZID:Europe/Paris
BEGIN:DAYLIGHT
TZOFFSETFROM:+0100
TZOFFSETTO:+0200
TZNAME:CEST
DTSTART:20250330T010000
END:DAYLIGHT
BEGIN:STANDARD
TZOFFSETFROM:+0200
TZOFFSETTO:+0100
TZNAME:CET
DTSTART:20251026T010000
END:STANDARD
BEGIN:DAYLIGHT
TZOFFSETFROM:+0100
TZOFFSETTO:+0200
TZNAME:CEST
DTSTART:20260329T010000
END:DAYLIGHT
BEGIN:STANDARD
TZOFFSETFROM:+0200
TZOFFSETTO:+0100
TZNAME:CET
DTSTART:20261025T010000
END:STANDARD
BEGIN:DAYLIGHT
TZOFFSETFROM:+0100
TZOFFSETTO:+0200
TZNAME:CEST
DTSTART:20270328T010000
END:DAYLIGHT
BEGIN:STANDARD
TZOFFSETFROM:+0200
TZOFFSETTO:+0100
TZNAME:CET
DTSTART:20271031T010000
END:STANDARD
END:VTIMEZONE
BEGIN:VEVENT
DTSTART;TZID=Europe/Paris:20260523T100000
DTEND;TZID=Europe/Paris:20260525T190000
DTSTAMP:20260425T185553
CREATED:20230403T201021Z
LAST-MODIFIED:20260424T175754Z
UID:781-1779530400-1779735600@nhelillustratrice.fr
SUMMARY:Salon des Livres et... - Salle des Corporations HAGUENAU (67)
DESCRIPTION:Retrouvez moi du 23 au 25 Mai\, à la Salle des Corporations de Haguenau\, pour un bel événement avec de chouettes auteurs\, autrices\, maisons d’éditons et illstrateurs/trices
URL:https://nhelillustratrice.fr/event/marche-de-lartisanat-local/
LOCATION:salle des corporations\, 2 rue du houblon\, Haguenau\, France
END:VEVENT
END:VCALENDAR