BEGIN:VCALENDAR
VERSION:2.0
PRODID:-//Nhelillustratrice - ECPv6.15.20//NONSGML v1.0//EN
CALSCALE:GREGORIAN
METHOD:PUBLISH
X-ORIGINAL-URL:https://nhelillustratrice.fr
X-WR-CALDESC:Évènements pour Nhelillustratrice
REFRESH-INTERVAL;VALUE=DURATION:PT1H
X-Robots-Tag:noindex
X-PUBLISHED-TTL:PT1H
BEGIN:VTIMEZONE
TZID:Europe/Paris
BEGIN:DAYLIGHT
TZOFFSETFROM:+0100
TZOFFSETTO:+0200
TZNAME:CEST
DTSTART:20250330T010000
END:DAYLIGHT
BEGIN:STANDARD
TZOFFSETFROM:+0200
TZOFFSETTO:+0100
TZNAME:CET
DTSTART:20251026T010000
END:STANDARD
BEGIN:DAYLIGHT
TZOFFSETFROM:+0100
TZOFFSETTO:+0200
TZNAME:CEST
DTSTART:20260329T010000
END:DAYLIGHT
BEGIN:STANDARD
TZOFFSETFROM:+0200
TZOFFSETTO:+0100
TZNAME:CET
DTSTART:20261025T010000
END:STANDARD
BEGIN:DAYLIGHT
TZOFFSETFROM:+0100
TZOFFSETTO:+0200
TZNAME:CEST
DTSTART:20270328T010000
END:DAYLIGHT
BEGIN:STANDARD
TZOFFSETFROM:+0200
TZOFFSETTO:+0100
TZNAME:CET
DTSTART:20271031T010000
END:STANDARD
END:VTIMEZONE
BEGIN:VEVENT
DTSTART;TZID=Europe/Paris:20260510T100000
DTEND;TZID=Europe/Paris:20260510T180000
DTSTAMP:20260425T185553
CREATED:20230403T201605Z
LAST-MODIFIED:20260424T184048Z
UID:785-1778407200-1778436000@nhelillustratrice.fr
SUMMARY:Flâneries & Découvertes autour du plan d'eau - REICHSHOFFEN (67)
DESCRIPTION:Retrouvez moi le dimanche 10 Mai au plan d’eau de REICHSHOFFEN\, de 10h à 18h. \nLéo et Valentin m’accompagneront comme d’habitude 😀\nDécouvrez ou redécouvrez les aventures de Léo et Valentin et venez jeter un oeil à mes nouveauté et échanger 🙂 \nMon stand se pare d’une toute nouvelle installation et décoration! J’ai hâte que vous voyez ça 😀
URL:https://nhelillustratrice.fr/event/flaneries-decouvertes-autour-du-plan-deau/
LOCATION:Etang de Reichshoffen\, étang de Reichshoffen\, Reichshoffen\, Bas-Rhin\, 67110\, France
END:VEVENT
END:VCALENDAR